BEGIN:VCALENDAR
VERSION:2.0
PRODID:-//STONE COUNTY DEVELOPMENTAL DISABILITY BOARD - ECPv6.15.20//NONSGML v1.0//EN
CALSCALE:GREGORIAN
METHOD:PUBLISH
X-ORIGINAL-URL:https://stoneddboard.com
X-WR-CALDESC:Events for STONE COUNTY DEVELOPMENTAL DISABILITY BOARD
REFRESH-INTERVAL;VALUE=DURATION:PT1H
X-Robots-Tag:noindex
X-PUBLISHED-TTL:PT1H
BEGIN:VTIMEZONE
TZID:UTC
BEGIN:STANDARD
TZOFFSETFROM:+0000
TZOFFSETTO:+0000
TZNAME:UTC
DTSTART:20250101T000000
END:STANDARD
END:VTIMEZONE
BEGIN:VEVENT
DTSTART;TZID=UTC:20260406T163000
DTEND;TZID=UTC:20260406T183000
DTSTAMP:20260421T175225
CREATED:20260304T190414Z
LAST-MODIFIED:20260304T192528Z
UID:10000343-1775493000-1775500200@stoneddboard.com
SUMMARY:Stone County Developmental Disability Board & Abilities First Present - ART ACADEMY!
DESCRIPTION:Stone County Developmental Disability Board & Abilities First Present – ART ACADEMY!\n\nSPRING FLING – April 6th\, 7th\, 8th\, & 9th\nFLOWERS\, BUGS\, AND CREEРY\nCRAWLY THINGS! – Students Age 13+\nStudents will complete various spring themed paintings using acrylics\,\nwatercolors\, and mixed media. Students may have the assistance of a\nsupport individual as needed. For registration call: (417) 830-9809 or email bobbi@abilitiesfirst.net\nThese classes are for Stone County Residents only. \nStone County Flyer Spring-Summer 2026 PDF
URL:https://stoneddboard.com/event/2049/
LOCATION:OACAC Head Start\, 22601 Main Street\, Reeds Spring\, MO\, 65737\, United States
END:VEVENT
END:VCALENDAR