BEGIN:VCALENDAR
VERSION:2.0
PRODID:-//STONE COUNTY DEVELOPMENTAL DISABILITY BOARD - ECPv6.15.20//NONSGML v1.0//EN
CALSCALE:GREGORIAN
METHOD:PUBLISH
X-WR-CALNAME:STONE COUNTY DEVELOPMENTAL DISABILITY BOARD
X-ORIGINAL-URL:https://stoneddboard.com
X-WR-CALDESC:Events for STONE COUNTY DEVELOPMENTAL DISABILITY BOARD
REFRESH-INTERVAL;VALUE=DURATION:PT1H
X-Robots-Tag:noindex
X-PUBLISHED-TTL:PT1H
BEGIN:VTIMEZONE
TZID:UTC
BEGIN:STANDARD
TZOFFSETFROM:+0000
TZOFFSETTO:+0000
TZNAME:UTC
DTSTART:20250101T000000
END:STANDARD
END:VTIMEZONE
BEGIN:VEVENT
DTSTART;TZID=UTC:20260409T160000
DTEND;TZID=UTC:20260409T163000
DTSTAMP:20260421T193452
CREATED:20260406T164244Z
LAST-MODIFIED:20260406T164244Z
UID:10000351-1775750400-1775752200@stoneddboard.com
SUMMARY:Finance Committee
DESCRIPTION:Agenda:\n4:00PM – Discussion of the prior month’s financial reports. \nhttps://us02web.zoom.us/j/83575081871?pwd=MlVrbkl0K2RCQkpyREUzZDFjMTBXQT09
URL:https://stoneddboard.com/event/finance-committee/
CATEGORIES:Internal Work Group
END:VEVENT
BEGIN:VEVENT
DTSTART;TZID=UTC:20260409T163000
DTEND;TZID=UTC:20260409T183000
DTSTAMP:20260421T193452
CREATED:20260304T193320Z
LAST-MODIFIED:20260304T193322Z
UID:10000347-1775752200-1775759400@stoneddboard.com
SUMMARY:Stone County Developmental Disability Board & Abilities First Present - ART ACADEMY!
DESCRIPTION:Stone County Developmental Disability Board & Abilities First Present – ART ACADEMY!\n\nSPRING FLING – April 6th\, 7th\, 8th\, & 9th\nFLOWERS\, BUGS\, AND CREEРY\nCRAWLY THINGS! – Students Age 13+\nStudents will complete various spring themed paintings using acrylics\,\nwatercolors\, and mixed media. Students may have the assistance of a\nsupport individual as needed. For registration call: (417) 830-9809 or email bobbi@abilitiesfirst.net\nThese classes are for Stone County Residents only. \nStone County Flyer Spring-Summer 2026 PDF
URL:https://stoneddboard.com/event/stone-county-developmental-disability-board-abilities-first-present-art-academy-3/
LOCATION:OACAC Head Start\, 22601 Main Street\, Reeds Spring\, MO\, 65737\, United States
END:VEVENT
BEGIN:VEVENT
DTSTART;TZID=UTC:20260409T180000
DTEND;TZID=UTC:20260409T190000
DTSTAMP:20260421T193452
CREATED:20260406T165239Z
LAST-MODIFIED:20260406T165243Z
UID:10000355-1775757600-1775761200@stoneddboard.com
SUMMARY:Operations Committee
DESCRIPTION:Agenda:6:00PM – Discussion of operations of SCDDB to include policies\, occupancy\, and employee matters\, as needed. \nhttps://us02web.zoom.us/j/88446526374?pwd=WFMwdGRzYWlsV0RyUktsWU5Zdy9Mdz09
URL:https://stoneddboard.com/event/operations-committee-2/
CATEGORIES:Internal Work Group
END:VEVENT
END:VCALENDAR