BEGIN:VCALENDAR
VERSION:2.0
PRODID:-//STONE COUNTY DEVELOPMENTAL DISABILITY BOARD - ECPv6.15.20//NONSGML v1.0//EN
CALSCALE:GREGORIAN
METHOD:PUBLISH
X-WR-CALNAME:STONE COUNTY DEVELOPMENTAL DISABILITY BOARD
X-ORIGINAL-URL:https://stoneddboard.com
X-WR-CALDESC:Events for STONE COUNTY DEVELOPMENTAL DISABILITY BOARD
REFRESH-INTERVAL;VALUE=DURATION:PT1H
X-Robots-Tag:noindex
X-PUBLISHED-TTL:PT1H
BEGIN:VTIMEZONE
TZID:UTC
BEGIN:STANDARD
TZOFFSETFROM:+0000
TZOFFSETTO:+0000
TZNAME:UTC
DTSTART:20230101T000000
END:STANDARD
END:VTIMEZONE
BEGIN:VEVENT
DTSTART;TZID=UTC:20240524T130000
DTEND;TZID=UTC:20240524T133000
DTSTAMP:20260426T031117
CREATED:20240516T214551Z
LAST-MODIFIED:20240516T215237Z
UID:10000206-1716555600-1716557400@stoneddboard.com
SUMMARY:Groundbreaking Ceremony
DESCRIPTION:Join us on Friday\, May 24 at 1pm as we break ground on our new facility! \n449 Emerson Rd.\, Reeds Spring (east of Gibson Tech) \nContact LaDella Thomas at 417-449-5160 for more information.
URL:https://stoneddboard.com/event/groundbreaking-ceremony/
LOCATION:449 Emerson Rd\, Reeds Spring MO 65737\, 449 Emerson Rd\, Reeds Spring\, MO\, 65737\, United States
CATEGORIES:SCDDB Event
ATTACH;FMTTYPE=image/png:https://stoneddboard.com/wp-content/uploads/2024/05/groundbreaking.png
ORGANIZER;CN="LaDella Thomas":MAILTO:lthomas@stoneddboard.com
END:VEVENT
END:VCALENDAR