BEGIN:VCALENDAR
VERSION:2.0
PRODID:-//STONE COUNTY DEVELOPMENTAL DISABILITY BOARD - ECPv6.15.20//NONSGML v1.0//EN
CALSCALE:GREGORIAN
METHOD:PUBLISH
X-WR-CALNAME:STONE COUNTY DEVELOPMENTAL DISABILITY BOARD
X-ORIGINAL-URL:https://stoneddboard.com
X-WR-CALDESC:Events for STONE COUNTY DEVELOPMENTAL DISABILITY BOARD
REFRESH-INTERVAL;VALUE=DURATION:PT1H
X-Robots-Tag:noindex
X-PUBLISHED-TTL:PT1H
BEGIN:VTIMEZONE
TZID:UTC
BEGIN:STANDARD
TZOFFSETFROM:+0000
TZOFFSETTO:+0000
TZNAME:UTC
DTSTART:20250101T000000
END:STANDARD
END:VTIMEZONE
BEGIN:VEVENT
DTSTART;TZID=UTC:20260416T180000
DTEND;TZID=UTC:20260416T193000
DTSTAMP:20260422T003606
CREATED:20260406T165057Z
LAST-MODIFIED:20260416T141737Z
UID:10000354-1776362400-1776367800@stoneddboard.com
SUMMARY:Board Meeting – April 2026
DESCRIPTION:Mission: Providing resources for Stone County individuals with developmental disabilities to thrive\, connect with others\, and achieve their goals.Vision: An inclusive community where all people have value and opportunities. \n\n\n\nMeeting Agenda – Open Session – April 16\, 2026 – 6:00pmSCDDB Offices 449 Emerson Rd\, Reeds Spring 65737Agenda ItemsNotice is hereby given that the tentative agenda for the meeting to be held by the Board of Directors of the Stone County Developmental Disability Boardmay include a Closed Session pursuant to RSMo § 610.021.6:00pm – 6:05pm Call to order\, pledge\, and prayer6:05pm – 6:10pm ACTION ITEM: Approval of Minutes – February\, March\, and Special Called Board meetingACTION ITEM: Approval of February and March Financials – Lisa Williams\, Treasurer \n\n\n\n\nACTION ITEM: Purchase of CD6:10pm – 6:30pm Executive Director Report – LaDella Thomas\n\n\n\nFunding Update\n\n\n\nDMH/Legislative Update\n\n\n\nResidential and Day Services Update\n\n\n\nBehavior Services Update6:30pm – 7:00pm Operations Committee Report – Brittany Brosseau\, Chair\n\n\n\nACTION ITEM: Hybrid and Remote Work Policy\n\n\n\nACTION ITEM: AI Policy7:00pm – 7:10pm Chair Report\, Ben Bonner7:10pm – 7:30pm Old Business/New Business\n\n\n\nBoard Self-evaluationsPlease
URL:https://stoneddboard.com/event/board-meeting-april-2026/
END:VEVENT
BEGIN:VEVENT
DTSTART;TZID=UTC:20260514T160000
DTEND;TZID=UTC:20260514T163000
DTSTAMP:20260422T003606
CREATED:20260406T164438Z
LAST-MODIFIED:20260406T164442Z
UID:10000352-1778774400-1778776200@stoneddboard.com
SUMMARY:Finance Committee
DESCRIPTION:Agenda:\n4:00PM – Discussion of the prior month’s financial reports. \nhttps://us02web.zoom.us/j/83575081871?pwd=MlVrbkl0K2RCQkpyREUzZDFjMTBXQT09
URL:https://stoneddboard.com/event/finance-committee-2/
CATEGORIES:Internal Work Group
END:VEVENT
BEGIN:VEVENT
DTSTART;TZID=UTC:20260514T180000
DTEND;TZID=UTC:20260514T190000
DTSTAMP:20260422T003606
CREATED:20260406T164708Z
LAST-MODIFIED:20260406T164755Z
UID:10000353-1778781600-1778785200@stoneddboard.com
SUMMARY:Operations Committee
DESCRIPTION:Agenda:6:00PM – Discussion of operations of SCDDB to include policies\, occupancy\, and employee matters\, as needed. \nhttps://us02web.zoom.us/j/88446526374?pwd=WFMwdGRzYWlsV0RyUktsWU5Zdy9Mdz09
URL:https://stoneddboard.com/event/operations-committee/
CATEGORIES:Internal Work Group
END:VEVENT
END:VCALENDAR