BEGIN:VCALENDAR
VERSION:2.0
PRODID:-//STONE COUNTY DEVELOPMENTAL DISABILITY BOARD - ECPv6.15.20//NONSGML v1.0//EN
CALSCALE:GREGORIAN
METHOD:PUBLISH
X-WR-CALNAME:STONE COUNTY DEVELOPMENTAL DISABILITY BOARD
X-ORIGINAL-URL:https://stoneddboard.com
X-WR-CALDESC:Events for STONE COUNTY DEVELOPMENTAL DISABILITY BOARD
REFRESH-INTERVAL;VALUE=DURATION:PT1H
X-Robots-Tag:noindex
X-PUBLISHED-TTL:PT1H
BEGIN:VTIMEZONE
TZID:UTC
BEGIN:STANDARD
TZOFFSETFROM:+0000
TZOFFSETTO:+0000
TZNAME:UTC
DTSTART:20190101T000000
END:STANDARD
END:VTIMEZONE
BEGIN:VEVENT
DTSTART;TZID=UTC:20201008T180000
DTEND;TZID=UTC:20201008T200000
DTSTAMP:20260422T075029
CREATED:20200709T145218Z
LAST-MODIFIED:20201008T180643Z
UID:10000054-1602180000-1602187200@stoneddboard.com
SUMMARY:SCDDB Board Meeting - Open
DESCRIPTION:Board meetings occur the 2nd Thursday of each month at 6pm and are held at our offices in the old Reeds Spring Middle School (21016 Main Street).  \n\n\n\nMeetings are open to the public and agendas will be posted on our front door as well as on this calendar within 24 hours prior to the meeting (per Sunshine Law). \n\n\n\nIf you with to address the board of directors\, please contact LaDella Thomas at 417-449-5160 or Lthomas@stoneddboard.com. Only items that are on the official agenda will be addressed at the meetings. \n\n\n\nSCDDB-agenda-Oct2020Download
URL:https://stoneddboard.com/event/scddb-board-meeting-open-2020-10-08/
LOCATION:New Testament Christian Church\, 21016 Main Street\, Reeds Spring\, Missouri\, 65737\, United States
CATEGORIES:Meeting
ORGANIZER;CN="LaDella Thomas":MAILTO:lthomas@stoneddboard.com
END:VEVENT
BEGIN:VEVENT
DTSTART;TZID=UTC:20200910T180000
DTEND;TZID=UTC:20200910T200000
DTSTAMP:20260422T075029
CREATED:20200709T145218Z
LAST-MODIFIED:20200709T145220Z
UID:10000050-1599760800-1599768000@stoneddboard.com
SUMMARY:SCDDB Board Meeting - Open
DESCRIPTION:Board meetings occur the 2nd Thursday of each month at 6pm and are held at our offices in the old Reeds Spring Middle School (21016 Main Street).  \n\n\n\nMeetings are open to the public and agendas will be posted on our front door as well as on this calendar within 24 hours prior to the meeting (per Sunshine Law). \n\n\n\nIf you with to address the board of directors\, please contact LaDella Thomas at 417-449-5160 or Lthomas@stoneddboard.com. Only items that are on the official agenda will be addressed at the meetings. \n\n\n\nSCDDB-agenda-Jul2020Download
URL:https://stoneddboard.com/event/scddb-board-meeting-open/2020-09-10/
LOCATION:New Testament Christian Church\, 21016 Main Street\, Reeds Spring\, Missouri\, 65737\, United States
CATEGORIES:Meeting
ORGANIZER;CN="LaDella Thomas":MAILTO:lthomas@stoneddboard.com
END:VEVENT
BEGIN:VEVENT
DTSTART;TZID=UTC:20200819T150000
DTEND;TZID=UTC:20200819T160000
DTSTAMP:20260422T075029
CREATED:20200703T145904Z
LAST-MODIFIED:20200703T153509Z
UID:10000047-1597849200-1597852800@stoneddboard.com
SUMMARY:Champion Athletes of the Ozarks - YOGA CLASS (WEEKLY)
DESCRIPTION:Wednesday\, July 8 through Wednesday\, August 19\, 2020 \n\n\n\n3:00 pm – 4:00 pm \n\n\n\nNew Testament Christian Church \n\n\n\nMUST have a current physical in office before participation. Click here for release forms. \n\n\n\nChampion Athletes of the Ozarks…\n\n\n\nis a local organizationbenefits children and adults with disabilities in the Ozarksis an athlete driven programteaches athletes to adapt to change\, cope with stress\, work with different authority figuresteaches athletes to build on their individual successesall programs are offered to our athletes at little or no cost
URL:https://stoneddboard.com/event/champion-athletes-of-the-ozarks-yoga-class/2020-08-19/
LOCATION:New Testament Christian Church\, 21016 Main Street\, Reeds Spring\, Missouri\, 65737\, United States
CATEGORIES:Health/Fitness
ATTACH;FMTTYPE=image/jpeg:https://stoneddboard.com/wp-content/uploads/2020/07/yoga.jpg
END:VEVENT
BEGIN:VEVENT
DTSTART;TZID=UTC:20200813T180000
DTEND;TZID=UTC:20200813T200000
DTSTAMP:20260422T075029
CREATED:20200709T145218Z
LAST-MODIFIED:20200709T145220Z
UID:10000049-1597341600-1597348800@stoneddboard.com
SUMMARY:SCDDB Board Meeting - Open
DESCRIPTION:Board meetings occur the 2nd Thursday of each month at 6pm and are held at our offices in the old Reeds Spring Middle School (21016 Main Street).  \n\n\n\nMeetings are open to the public and agendas will be posted on our front door as well as on this calendar within 24 hours prior to the meeting (per Sunshine Law). \n\n\n\nIf you with to address the board of directors\, please contact LaDella Thomas at 417-449-5160 or Lthomas@stoneddboard.com. Only items that are on the official agenda will be addressed at the meetings. \n\n\n\nSCDDB-agenda-Jul2020Download
URL:https://stoneddboard.com/event/scddb-board-meeting-open/2020-08-13/
LOCATION:New Testament Christian Church\, 21016 Main Street\, Reeds Spring\, Missouri\, 65737\, United States
CATEGORIES:Meeting
ORGANIZER;CN="LaDella Thomas":MAILTO:lthomas@stoneddboard.com
END:VEVENT
BEGIN:VEVENT
DTSTART;TZID=UTC:20200812T150000
DTEND;TZID=UTC:20200812T160000
DTSTAMP:20260422T075029
CREATED:20200703T145904Z
LAST-MODIFIED:20200703T153509Z
UID:10000046-1597244400-1597248000@stoneddboard.com
SUMMARY:Champion Athletes of the Ozarks - YOGA CLASS (WEEKLY)
DESCRIPTION:Wednesday\, July 8 through Wednesday\, August 19\, 2020 \n\n\n\n3:00 pm – 4:00 pm \n\n\n\nNew Testament Christian Church \n\n\n\nMUST have a current physical in office before participation. Click here for release forms. \n\n\n\nChampion Athletes of the Ozarks…\n\n\n\nis a local organizationbenefits children and adults with disabilities in the Ozarksis an athlete driven programteaches athletes to adapt to change\, cope with stress\, work with different authority figuresteaches athletes to build on their individual successesall programs are offered to our athletes at little or no cost
URL:https://stoneddboard.com/event/champion-athletes-of-the-ozarks-yoga-class/2020-08-12/
LOCATION:New Testament Christian Church\, 21016 Main Street\, Reeds Spring\, Missouri\, 65737\, United States
CATEGORIES:Health/Fitness
ATTACH;FMTTYPE=image/jpeg:https://stoneddboard.com/wp-content/uploads/2020/07/yoga.jpg
END:VEVENT
BEGIN:VEVENT
DTSTART;TZID=UTC:20200805T150000
DTEND;TZID=UTC:20200805T160000
DTSTAMP:20260422T075029
CREATED:20200703T145904Z
LAST-MODIFIED:20200703T153509Z
UID:10000045-1596639600-1596643200@stoneddboard.com
SUMMARY:Champion Athletes of the Ozarks - YOGA CLASS (WEEKLY)
DESCRIPTION:Wednesday\, July 8 through Wednesday\, August 19\, 2020 \n\n\n\n3:00 pm – 4:00 pm \n\n\n\nNew Testament Christian Church \n\n\n\nMUST have a current physical in office before participation. Click here for release forms. \n\n\n\nChampion Athletes of the Ozarks…\n\n\n\nis a local organizationbenefits children and adults with disabilities in the Ozarksis an athlete driven programteaches athletes to adapt to change\, cope with stress\, work with different authority figuresteaches athletes to build on their individual successesall programs are offered to our athletes at little or no cost
URL:https://stoneddboard.com/event/champion-athletes-of-the-ozarks-yoga-class/2020-08-05/
LOCATION:New Testament Christian Church\, 21016 Main Street\, Reeds Spring\, Missouri\, 65737\, United States
CATEGORIES:Health/Fitness
ATTACH;FMTTYPE=image/jpeg:https://stoneddboard.com/wp-content/uploads/2020/07/yoga.jpg
END:VEVENT
BEGIN:VEVENT
DTSTART;TZID=UTC:20200729T150000
DTEND;TZID=UTC:20200729T160000
DTSTAMP:20260422T075029
CREATED:20200703T145904Z
LAST-MODIFIED:20200703T153509Z
UID:10000044-1596034800-1596038400@stoneddboard.com
SUMMARY:Champion Athletes of the Ozarks - YOGA CLASS (WEEKLY)
DESCRIPTION:Wednesday\, July 8 through Wednesday\, August 19\, 2020 \n\n\n\n3:00 pm – 4:00 pm \n\n\n\nNew Testament Christian Church \n\n\n\nMUST have a current physical in office before participation. Click here for release forms. \n\n\n\nChampion Athletes of the Ozarks…\n\n\n\nis a local organizationbenefits children and adults with disabilities in the Ozarksis an athlete driven programteaches athletes to adapt to change\, cope with stress\, work with different authority figuresteaches athletes to build on their individual successesall programs are offered to our athletes at little or no cost
URL:https://stoneddboard.com/event/champion-athletes-of-the-ozarks-yoga-class/2020-07-29/
LOCATION:New Testament Christian Church\, 21016 Main Street\, Reeds Spring\, Missouri\, 65737\, United States
CATEGORIES:Health/Fitness
ATTACH;FMTTYPE=image/jpeg:https://stoneddboard.com/wp-content/uploads/2020/07/yoga.jpg
END:VEVENT
BEGIN:VEVENT
DTSTART;TZID=UTC:20200715T150000
DTEND;TZID=UTC:20200715T160000
DTSTAMP:20260422T075029
CREATED:20200703T145904Z
LAST-MODIFIED:20200703T153509Z
UID:10000043-1594825200-1594828800@stoneddboard.com
SUMMARY:Champion Athletes of the Ozarks - YOGA CLASS (WEEKLY)
DESCRIPTION:Wednesday\, July 8 through Wednesday\, August 19\, 2020 \n\n\n\n3:00 pm – 4:00 pm \n\n\n\nNew Testament Christian Church \n\n\n\nMUST have a current physical in office before participation. Click here for release forms. \n\n\n\nChampion Athletes of the Ozarks…\n\n\n\nis a local organizationbenefits children and adults with disabilities in the Ozarksis an athlete driven programteaches athletes to adapt to change\, cope with stress\, work with different authority figuresteaches athletes to build on their individual successesall programs are offered to our athletes at little or no cost
URL:https://stoneddboard.com/event/champion-athletes-of-the-ozarks-yoga-class/2020-07-15/
LOCATION:New Testament Christian Church\, 21016 Main Street\, Reeds Spring\, Missouri\, 65737\, United States
CATEGORIES:Health/Fitness
ATTACH;FMTTYPE=image/jpeg:https://stoneddboard.com/wp-content/uploads/2020/07/yoga.jpg
END:VEVENT
BEGIN:VEVENT
DTSTART;TZID=UTC:20200709T180000
DTEND;TZID=UTC:20200709T200000
DTSTAMP:20260422T075029
CREATED:20200709T145218Z
LAST-MODIFIED:20200709T145220Z
UID:10000048-1594317600-1594324800@stoneddboard.com
SUMMARY:SCDDB Board Meeting - Open
DESCRIPTION:Board meetings occur the 2nd Thursday of each month at 6pm and are held at our offices in the old Reeds Spring Middle School (21016 Main Street).  \n\n\n\nMeetings are open to the public and agendas will be posted on our front door as well as on this calendar within 24 hours prior to the meeting (per Sunshine Law). \n\n\n\nIf you with to address the board of directors\, please contact LaDella Thomas at 417-449-5160 or Lthomas@stoneddboard.com. Only items that are on the official agenda will be addressed at the meetings. \n\n\n\nSCDDB-agenda-Jul2020Download
URL:https://stoneddboard.com/event/scddb-board-meeting-open/2020-07-09/
LOCATION:New Testament Christian Church\, 21016 Main Street\, Reeds Spring\, Missouri\, 65737\, United States
CATEGORIES:Meeting
ORGANIZER;CN="LaDella Thomas":MAILTO:lthomas@stoneddboard.com
END:VEVENT
BEGIN:VEVENT
DTSTART;TZID=UTC:20200708T150000
DTEND;TZID=UTC:20200708T160000
DTSTAMP:20260422T075029
CREATED:20200703T145904Z
LAST-MODIFIED:20200703T153509Z
UID:10000042-1594220400-1594224000@stoneddboard.com
SUMMARY:Champion Athletes of the Ozarks - YOGA CLASS (WEEKLY)
DESCRIPTION:Wednesday\, July 8 through Wednesday\, August 19\, 2020 \n\n\n\n3:00 pm – 4:00 pm \n\n\n\nNew Testament Christian Church \n\n\n\nMUST have a current physical in office before participation. Click here for release forms. \n\n\n\nChampion Athletes of the Ozarks…\n\n\n\nis a local organizationbenefits children and adults with disabilities in the Ozarksis an athlete driven programteaches athletes to adapt to change\, cope with stress\, work with different authority figuresteaches athletes to build on their individual successesall programs are offered to our athletes at little or no cost
URL:https://stoneddboard.com/event/champion-athletes-of-the-ozarks-yoga-class/2020-07-08/
LOCATION:New Testament Christian Church\, 21016 Main Street\, Reeds Spring\, Missouri\, 65737\, United States
CATEGORIES:Health/Fitness
ATTACH;FMTTYPE=image/jpeg:https://stoneddboard.com/wp-content/uploads/2020/07/yoga.jpg
END:VEVENT
END:VCALENDAR