BEGIN:VCALENDAR
VERSION:2.0
PRODID:-//STONE COUNTY DEVELOPMENTAL DISABILITY BOARD - ECPv6.15.20//NONSGML v1.0//EN
CALSCALE:GREGORIAN
METHOD:PUBLISH
X-WR-CALNAME:STONE COUNTY DEVELOPMENTAL DISABILITY BOARD
X-ORIGINAL-URL:https://stoneddboard.com
X-WR-CALDESC:Events for STONE COUNTY DEVELOPMENTAL DISABILITY BOARD
REFRESH-INTERVAL;VALUE=DURATION:PT1H
X-Robots-Tag:noindex
X-PUBLISHED-TTL:PT1H
BEGIN:VTIMEZONE
TZID:UTC
BEGIN:STANDARD
TZOFFSETFROM:+0000
TZOFFSETTO:+0000
TZNAME:UTC
DTSTART:20240101T000000
END:STANDARD
END:VTIMEZONE
BEGIN:VEVENT
DTSTART;TZID=UTC:20251218T180000
DTEND;TZID=UTC:20251218T190000
DTSTAMP:20260422T122822
CREATED:20250819T201937Z
LAST-MODIFIED:20250819T201937Z
UID:10000336-1766080800-1766084400@stoneddboard.com
SUMMARY:SCDDB Board Meeting - December 2025
DESCRIPTION:
URL:https://stoneddboard.com/event/scddb-board-meeting-december-2025/
LOCATION:449 Emerson Rd\, Reeds Spring MO 65737\, 449 Emerson Rd\, Reeds Spring\, MO\, 65737\, United States
END:VEVENT
END:VCALENDAR