BEGIN:VCALENDAR
VERSION:2.0
PRODID:-//STONE COUNTY DEVELOPMENTAL DISABILITY BOARD - ECPv6.15.20//NONSGML v1.0//EN
CALSCALE:GREGORIAN
METHOD:PUBLISH
X-WR-CALNAME:STONE COUNTY DEVELOPMENTAL DISABILITY BOARD
X-ORIGINAL-URL:https://stoneddboard.com
X-WR-CALDESC:Events for STONE COUNTY DEVELOPMENTAL DISABILITY BOARD
REFRESH-INTERVAL;VALUE=DURATION:PT1H
X-Robots-Tag:noindex
X-PUBLISHED-TTL:PT1H
BEGIN:VTIMEZONE
TZID:UTC
BEGIN:STANDARD
TZOFFSETFROM:+0000
TZOFFSETTO:+0000
TZNAME:UTC
DTSTART:20250101T000000
END:STANDARD
END:VTIMEZONE
BEGIN:VEVENT
DTSTART;TZID=UTC:20260108T150000
DTEND;TZID=UTC:20260108T160000
DTSTAMP:20260421T211613
CREATED:20260108T201524Z
LAST-MODIFIED:20260108T204154Z
UID:10000341-1767884400-1767888000@stoneddboard.com
SUMMARY:Finance Committee Meeting - Jan 2026
DESCRIPTION:Agenda: \n\nReview of the previous month’s financials\n\nNo official decisions will be made in this meeting. Topics discussed will be presented at SCDDB’s monthly board meeting for discussion/approval. \nZoom Link: https://us02web.zoom.us/j/83575081871?pwd=MlVrbkl0K2RCQkpyREUzZDFjMTBXQT09
URL:https://stoneddboard.com/event/finance-committee-meeting-jan-2026/
CATEGORIES:Internal Work Group,Meeting
ORGANIZER;CN="LaDella Thomas":MAILTO:lthomas@stoneddboard.com
LOCATION:https://us02web.zoom.us/j/83575081871?pwd=MlVrbkl0K2RCQkpyREUzZDFjMTBXQT09
END:VEVENT
BEGIN:VEVENT
DTSTART;TZID=UTC:20260108T180000
DTEND;TZID=UTC:20260108T190000
DTSTAMP:20260421T211613
CREATED:20260108T201152Z
LAST-MODIFIED:20260108T201401Z
UID:10000340-1767895200-1767898800@stoneddboard.com
SUMMARY:Operations Committee Meeting - Jan 2026
DESCRIPTION:Agenda: \n\nReview of 2026 Funding\nReview of the Employee Manual\n\nNo official decisions will be made in this meeting. Topics discussed will be presented at SCDDB’s monthly board meeting for discussion/approval. \nZoom Link: https://us02web.zoom.us/j/88446526374?pwd=WFMwdGRzYWlsV0RyUktsWU5Zdy9Mdz09
URL:https://stoneddboard.com/event/operations-committee-meeting-2/
CATEGORIES:Internal Work Group,Meeting
ORGANIZER;CN="LaDella Thomas":MAILTO:lthomas@stoneddboard.com
LOCATION:https://stoneddboard.com/event/operations-committee-meeting-2/
END:VEVENT
BEGIN:VEVENT
DTSTART;TZID=UTC:20260116T180000
DTEND;TZID=UTC:20260116T193000
DTSTAMP:20260421T211613
CREATED:20260108T200843Z
LAST-MODIFIED:20260115T182431Z
UID:10000339-1768586400-1768591800@stoneddboard.com
SUMMARY:Board Meeting - Jan 2026
DESCRIPTION:Meeting Agenda – Open Session – January 15\, 2026 – 6:00pm\nSCDDB Offices 449 Emerson Rd\, Reeds Spring 65737\nNotice is hereby given that the tentative agenda for the meeting to be held by the Board of Directors of the Stone County Developmental Disability Board\nmay include a Closed Session pursuant to RSMo § 610.021. \nAgenda Items: \n6:00pm – 6:05pm Call to order\, pledge\, and prayer\n6:05pm – 6:10pm ACTION ITEM: Approval of Minutes – December Board meeting\nACTION ITEM: Approval of December Financials – Lisa Williams\, Treasurer\nACTION ITEM: Approval to add Chair and Treasurer to Bank Accounts\n6:10 – 6:15pm Induction of New Board Members\n6:15pm – 6:30pm Executive Director Report – LaDella Thomas\n• Funding Update\n• DMH/Legislative Update\n• Residential and Day Services Update\n• Behavior Services Update\n6:30pm – 7:00pm Operations Committee Report – Ben Bonner\, Chair\n• 2026 Funding Proposals\no Follow-up on Blue Eye School District and CHANCES of Stone County\n• ACTION ITEM: Administrative Directive Policy\n7:00pm – 7:10pm Chair Report\, Ben Bonner\n7:10pm – 7:30pm Old Business/New Business\n• 2026 Committee Assignments\n• Board Self-evaluations \nPlease note: Monthly meetings are on the 3rd Thursday. The next meeting is Thursday\, February 19\, 2026. Please submit items for the agenda by 5pm\, February 12\, 2026\, to Executive Director LaDella Thomas. News media may obtain copies of this notice by contacting: LaDella Thomas\, Executive Director. Stone County Developmental Disability Board\, PO Box 2383\, Branson West\, MO 65737 or lthomas@stoneddboard.com.
URL:https://stoneddboard.com/event/board-meeting-jan-2026/
LOCATION:449 Emerson Rd\, Reeds Spring MO 65737\, 449 Emerson Rd\, Reeds Spring\, MO\, 65737\, United States
ORGANIZER;CN="LaDella Thomas":MAILTO:lthomas@stoneddboard.com
END:VEVENT
END:VCALENDAR