BEGIN:VCALENDAR
VERSION:2.0
PRODID:-//STONE COUNTY DEVELOPMENTAL DISABILITY BOARD - ECPv6.15.20//NONSGML v1.0//EN
CALSCALE:GREGORIAN
METHOD:PUBLISH
X-ORIGINAL-URL:https://stoneddboard.com
X-WR-CALDESC:Events for STONE COUNTY DEVELOPMENTAL DISABILITY BOARD
REFRESH-INTERVAL;VALUE=DURATION:PT1H
X-Robots-Tag:noindex
X-PUBLISHED-TTL:PT1H
BEGIN:VTIMEZONE
TZID:UTC
BEGIN:STANDARD
TZOFFSETFROM:+0000
TZOFFSETTO:+0000
TZNAME:UTC
DTSTART:20250101T000000
END:STANDARD
END:VTIMEZONE
BEGIN:VEVENT
DTSTART;TZID=UTC:20260319T180000
DTEND;TZID=UTC:20260319T193000
DTSTAMP:20260421T174212
CREATED:20260317T193705Z
LAST-MODIFIED:20260319T200840Z
UID:10000349-1773943200-1773948600@stoneddboard.com
SUMMARY:Board Meeting – March 2026 - CANCELED
DESCRIPTION:Meeting Agenda – Open Session – March 19\, 2026 – 6:00pm\nSCDDB Offices 449 Emerson Rd\, Reeds Spring 65737\nAgenda Items \nNotice is hereby given that the tentative agenda for the meeting to be held by the Board of Directors of the Stone County Developmental Disability Board may include a Closed Session pursuant to RSMo § 610.021.\n  \n6:00pm – 6:05pm             Call to order\, pledge\, and prayer \n6:05pm – 6:10pm             ACTION ITEM: Approval of Minutes – February Board meeting \n                                          ACTION ITEM: Approval of Feb Financials – Lisa Williams\, Treasurer \n\n\n\n\n\n\n\n\n\n\n\n\n\n\n\n\n\nACTION ITEM: Purchase of CD\n\n\n\n\n\n\n\n\n\n\n\n\n\n\n\n\n\n6:10pm – 6:30pm             Executive Director Report – LaDella Thomas \n\n\n\n\n\n\n\n\n\n\n\n\n\n\n\nFunding Update\nDMH/Legislative Update\nResidential and Day Services Update\nBehavior Services Update\n\n\n\n\n\n\n\n\n\n\n\n\n\n\n\n6:30pm – 7:00pm             Operations Committee Report – Brittany Brosseau\, Chair \n\n\n\n\n\n\n\n\n\n\n\n\n\n\n\n\n\nACTION ITEM: Hybrid & Remote Work Policy\nACTION ITEM: AI Policy\n\n\n\n\n\n\n\n\n\n\n\n\n\n\n\n\n\n7:00pm – 7:10pm             Chair Report\, Ben Bonner \n7:10pm – 7:30pm             Old Business/New Business \n\n\n\n\n\n\n\n\n\n\n\n\n\n\n\nBoard Self-evaluations\n\n\n\n\n\n\n\n\n\n\n\n\n\n\n\nPlease note: Monthly meetings are on the 3rd Thursday. The next meeting is Thursday\, April 16\, 2026. Please submit items for the agenda by 5pm\, April 10\, 2026\, to Executive Director LaDella Thomas. News media may obtain copies of this notice by contacting: LaDella Thomas\, Executive Director. Stone County Developmental Disability Board\, PO Box 2383\, Branson West\, MO 65737 or Lthomas@stoneddboard.com.
URL:https://stoneddboard.com/event/board-meeting-feb-2026/
END:VEVENT
END:VCALENDAR