BEGIN:VCALENDAR
VERSION:2.0
PRODID:-//STONE COUNTY DEVELOPMENTAL DISABILITY BOARD - ECPv6.15.20//NONSGML v1.0//EN
CALSCALE:GREGORIAN
METHOD:PUBLISH
X-WR-CALNAME:STONE COUNTY DEVELOPMENTAL DISABILITY BOARD
X-ORIGINAL-URL:https://stoneddboard.com
X-WR-CALDESC:Events for STONE COUNTY DEVELOPMENTAL DISABILITY BOARD
REFRESH-INTERVAL;VALUE=DURATION:PT1H
X-Robots-Tag:noindex
X-PUBLISHED-TTL:PT1H
BEGIN:VTIMEZONE
TZID:UTC
BEGIN:STANDARD
TZOFFSETFROM:+0000
TZOFFSETTO:+0000
TZNAME:UTC
DTSTART:20230101T000000
END:STANDARD
END:VTIMEZONE
BEGIN:VEVENT
DTSTART;TZID=UTC:20241017T180000
DTEND;TZID=UTC:20241017T193000
DTSTAMP:20260422T140658
CREATED:20241015T195702Z
LAST-MODIFIED:20250116T154922Z
UID:10000212-1729188000-1729193400@stoneddboard.com
SUMMARY:SCDDB Board Meeting
DESCRIPTION:Meeting Agenda – Open Session – November 21\, 2024 – 6:00pm\n\nNEW LOCATION: SCDDB Offices at the Brooks Center\, 15767 State Highway 13\, Reeds Spring 65737\, Suite 2\n  \nAgenda Items\nNotice is hereby given that the tentative agenda for the meeting to be held by the Board of Directors of the Stone County Developmental Disability Board may include a Closed Session pursuant to RSMo § 610.021.\n6:00pm – 6:05pm Call to order\, pledge\, and prayer \n6:05pm – 6:10pm ACTION ITEM: Approval of Minutes – October Board meetings\nACTION ITEM: Approval of October Financials – Anne Coleman\, Treasurer\nACTION ITEM: Discussion of adding Executive Director as a signer on bank account \n6:10pm-7:00pm Discussion of 2025 Agency Funding Applications\n• ACTION ITEM: Abilities First – First Steps\n• ACTION ITEM: Abilities First – Art Inspired Academy\n• ACTION ITEM: Coffee Creations – Supported Employment\n• ACTION ITEM: Champion Athletes of the Ozarks – Sporting/Life Skills Programs\n• ACTION ITEM: Crane Schools – Inclusive Playground for Elementary School\n• ACTION ITEM: Creative Therapy Center LLC – Music Therapy\n• ACTION ITEM: OATS Transit – Transportation \n7:00pm-7:30pm Review of Proposed 2025 Budget (ACTION ITEM) \n7:30pm-7:45pm Executive Director Report – LaDella Thomas\n• Programs and Funding Update\n• Residential Update/Day Services Update/Behavioral\n• Building Update \n7:45pm – 7:50pm Operations Committee Report – Anne Collins\, Chair (as needed)\n• Ops Meeting report\n• ACTION ITEM: Board Social Media Policy\n• ACTION ITEM: Moonlighting Policy \n7:50pm – 7:55pm Marketing Committee Update \n7:55pm – 8:00pm Chair Report\, Brittany Brosseau \n8:00pm – 8:05pm Old Business/New Business\n• Executive Director Review Process\n• Upcoming Officer Elections Process\n• Board Opening/Interview Committee \nPlease note: Monthly meetings are on the 3rd Thursday. The next meeting is Thursday\, December 19\, 2024. Please submit items for the agenda by 5pm\, December 9\, 2024\, to Executive Director LaDella Thomas. News media may obtain copies of this notice by contacting: LaDella Thomas\, Executive Director. Stone County Developmental Disability Board\, PO Box 2383\, Branson West\, MO 65737 or Lthomas@stoneddboard.com.
URL:https://stoneddboard.com/event/scddb-board-meeting-10/
LOCATION:Ignite Church\, 19585 MO-413\, Reeds Spring\, MO\, 65737\, United States
END:VEVENT
END:VCALENDAR