BEGIN:VCALENDAR
VERSION:2.0
PRODID:-//STONE COUNTY DEVELOPMENTAL DISABILITY BOARD - ECPv6.15.20//NONSGML v1.0//EN
CALSCALE:GREGORIAN
METHOD:PUBLISH
X-WR-CALNAME:STONE COUNTY DEVELOPMENTAL DISABILITY BOARD
X-ORIGINAL-URL:https://stoneddboard.com
X-WR-CALDESC:Events for STONE COUNTY DEVELOPMENTAL DISABILITY BOARD
REFRESH-INTERVAL;VALUE=DURATION:PT1H
X-Robots-Tag:noindex
X-PUBLISHED-TTL:PT1H
BEGIN:VTIMEZONE
TZID:UTC
BEGIN:STANDARD
TZOFFSETFROM:+0000
TZOFFSETTO:+0000
TZNAME:UTC
DTSTART:20190101T000000
END:STANDARD
END:VTIMEZONE
BEGIN:VEVENT
DTSTART;TZID=UTC:20230119T180000
DTEND;TZID=UTC:20230119T190000
DTSTAMP:20260422T054738
CREATED:20230118T174500Z
LAST-MODIFIED:20240919T145335Z
UID:10000106-1674151200-1674154800@stoneddboard.com
SUMMARY:SCDDB Board Meeting
DESCRIPTION: 
URL:https://stoneddboard.com/event/scddb-board-meeting-2/
LOCATION:SCDDB Offices\, 15767 State Highway 13\, Reeds Spring\, Missouri\, 65737
ORGANIZER;CN="LaDella Thomas":MAILTO:lthomas@stoneddboard.com
END:VEVENT
BEGIN:VEVENT
DTSTART;TZID=UTC:20230116T080000
DTEND;TZID=UTC:20230116T170000
DTSTAMP:20260422T054738
CREATED:20230118T175148Z
LAST-MODIFIED:20230118T175149Z
UID:10000131-1673856000-1673888400@stoneddboard.com
SUMMARY:Martin Luther King Jr. Day - SERVICES CLOSED
DESCRIPTION:Day Services and Administrative Offices Closed
URL:https://stoneddboard.com/event/martin-luther-king-jr-day-services-closed/
LOCATION:SCDDB Offices\, 15767 State Highway 13\, Reeds Spring\, Missouri\, 65737
ORGANIZER;CN="LaDella Thomas":MAILTO:lthomas@stoneddboard.com
END:VEVENT
BEGIN:VEVENT
DTSTART;TZID=UTC:20201015T170000
DTEND;TZID=UTC:20201015T180000
DTSTAMP:20260422T054738
CREATED:20201014T220229Z
LAST-MODIFIED:20201014T220230Z
UID:10000055-1602781200-1602784800@stoneddboard.com
SUMMARY:SCDDB Special Called Board Meeting
DESCRIPTION:SPECIAL CALLED MEETING – See agenda below. \n\n\n\nSCDDB-agenda-Oct2020-special-called-mtgDownload\n\n\n\nBoard meetings occur the 2nd Thursday of each month at 6pm and are held at our offices in the old Reeds Spring Middle School (21016 Main Street).  \n\n\n\nMeetings are open to the public and agendas will be posted on our front door as well as on this calendar within 24 hours prior to the meeting (per Sunshine Law). \n\n\n\nIf you with to address the board of directors\, please contact LaDella Thomas at 417-449-5160 or Lthomas@stoneddboard.com. Only items that are on the official agenda will be addressed at the meetings.
URL:https://stoneddboard.com/event/scddb-special-called-board-meeting/
LOCATION:SCDDB Offices\, 15767 State Highway 13\, Reeds Spring\, Missouri\, 65737
ORGANIZER;CN="LaDella Thomas":MAILTO:lthomas@stoneddboard.com
END:VEVENT
END:VCALENDAR